BEGIN:VCALENDAR
VERSION:2.0
PRODID:-//JF Petroleum Group - ECPv6.15.20//NONSGML v1.0//EN
CALSCALE:GREGORIAN
METHOD:PUBLISH
X-WR-CALNAME:JF Petroleum Group
X-ORIGINAL-URL:https://jfpetrogroup.com
X-WR-CALDESC:Events for JF Petroleum Group
REFRESH-INTERVAL;VALUE=DURATION:PT1H
X-Robots-Tag:noindex
X-PUBLISHED-TTL:PT1H
BEGIN:VTIMEZONE
TZID:America/Chicago
BEGIN:DAYLIGHT
TZOFFSETFROM:-0600
TZOFFSETTO:-0500
TZNAME:CDT
DTSTART:20250309T080000
END:DAYLIGHT
BEGIN:STANDARD
TZOFFSETFROM:-0500
TZOFFSETTO:-0600
TZNAME:CST
DTSTART:20251102T070000
END:STANDARD
BEGIN:DAYLIGHT
TZOFFSETFROM:-0600
TZOFFSETTO:-0500
TZNAME:CDT
DTSTART:20260308T080000
END:DAYLIGHT
BEGIN:STANDARD
TZOFFSETFROM:-0500
TZOFFSETTO:-0600
TZNAME:CST
DTSTART:20261101T070000
END:STANDARD
BEGIN:DAYLIGHT
TZOFFSETFROM:-0600
TZOFFSETTO:-0500
TZNAME:CDT
DTSTART:20270314T080000
END:DAYLIGHT
BEGIN:STANDARD
TZOFFSETFROM:-0500
TZOFFSETTO:-0600
TZNAME:CST
DTSTART:20271107T070000
END:STANDARD
END:VTIMEZONE
BEGIN:VEVENT
DTSTART;TZID=America/Chicago:20260210T080000
DTEND;TZID=America/Chicago:20260210T180000
DTSTAMP:20260425T130220
CREATED:20260202T183901Z
LAST-MODIFIED:20260202T183901Z
UID:17948-1770710400-1770746400@jfpetrogroup.com
SUMMARY:FlexPay 6 - San Antonio
DESCRIPTION:1 – Day Class \nThis course trains technicians to install\,\nprogram\, and troubleshoot the FlexPay™ 6 for Gilbarco Veeder-Root™\nEncore® dispensers and Passport® POS systems. Participants\nwill learn communication configuration\, installation\nprocedures\, start-up and programming\, and troubleshooting\nthrough interactive modules featuring videos and practical\nexercises \nPrerequisites: \n• API Safety or POST Safety Certification (Status = Acquired)\n• GVR Dispensing Systems – Canada or GVR Dispensing Systems – US\n• Insite360 Encore Remote Management
URL:https://jfpetrogroup.com/course/flexpay-6-san-antonio-6/
LOCATION:San Antonio\, TX\, 14833 Bulverde Road\, San Antonio\, TX\, 78247\, United States
CATEGORIES:FlexPay 6
ATTACH;FMTTYPE=image/jpeg:https://jfpetrogroup.com/wp-content/uploads/2021/07/JF-Way-Header-01-scaled.jpg
END:VEVENT
BEGIN:VEVENT
DTSTART;TZID=America/Chicago:20260211T080000
DTEND;TZID=America/Chicago:20260211T180000
DTSTAMP:20260425T130220
CREATED:20260202T184011Z
LAST-MODIFIED:20260202T184011Z
UID:17950-1770796800-1770832800@jfpetrogroup.com
SUMMARY:FlexPay 6 - San Antonio
DESCRIPTION:1 – Day Class \nThis course trains technicians to install\,\nprogram\, and troubleshoot the FlexPay™ 6 for Gilbarco Veeder-Root™\nEncore® dispensers and Passport® POS systems. Participants\nwill learn communication configuration\, installation\nprocedures\, start-up and programming\, and troubleshooting\nthrough interactive modules featuring videos and practical\nexercises \nPrerequisites: \n• API Safety or POST Safety Certification (Status = Acquired)\n• GVR Dispensing Systems – Canada or GVR Dispensing Systems – US\n• Insite360 Encore Remote Management
URL:https://jfpetrogroup.com/course/flexpay-6-san-antonio-7/
LOCATION:San Antonio\, TX\, 14833 Bulverde Road\, San Antonio\, TX\, 78247\, United States
CATEGORIES:FlexPay 6
ATTACH;FMTTYPE=image/jpeg:https://jfpetrogroup.com/wp-content/uploads/2021/07/JF-Way-Header-01-scaled.jpg
END:VEVENT
BEGIN:VEVENT
DTSTART;TZID=America/Chicago:20260224T080000
DTEND;TZID=America/Chicago:20260224T180000
DTSTAMP:20260425T130220
CREATED:20260128T153449Z
LAST-MODIFIED:20260128T153651Z
UID:17899-1771920000-1771956000@jfpetrogroup.com
SUMMARY:FlexPay 6 - Orlando
DESCRIPTION:1 – Day Class \nThis course trains technicians to install\,\nprogram\, and troubleshoot the FlexPay™ 6 for Gilbarco Veeder-Root™\nEncore® dispensers and Passport® POS systems. Participants\nwill learn communication configuration\, installation\nprocedures\, start-up and programming\, and troubleshooting\nthrough interactive modules featuring videos and practical\nexercises \nPrerequisites: \n• API Safety or POST Safety Certification (Status = Acquired)\n• GVR Dispensing Systems – Canada or GVR Dispensing Systems – US\n• Insite360 Encore Remote Management
URL:https://jfpetrogroup.com/course/flexpay-6-orlando/
LOCATION:Orlando\, FL\, 3806 Caboose Place\, Sanford\, FL\, 32771\, United States
CATEGORIES:FlexPay 6
ATTACH;FMTTYPE=image/jpeg:https://jfpetrogroup.com/wp-content/uploads/2021/07/JF-Way-Header-01-scaled.jpg
ORGANIZER;CN="David Blades":MAILTO:david.blades@jfpetrogroup.com
END:VEVENT
BEGIN:VEVENT
DTSTART;TZID=America/Chicago:20260225T080000
DTEND;TZID=America/Chicago:20260225T180000
DTSTAMP:20260425T130220
CREATED:20260128T153608Z
LAST-MODIFIED:20260128T153608Z
UID:17901-1772006400-1772042400@jfpetrogroup.com
SUMMARY:FlexPay 6 - Orlando
DESCRIPTION:1 – Day Class \nThis course trains technicians to install\,\nprogram\, and troubleshoot the FlexPay™ 6 for Gilbarco Veeder-Root™\nEncore® dispensers and Passport® POS systems. Participants\nwill learn communication configuration\, installation\nprocedures\, start-up and programming\, and troubleshooting\nthrough interactive modules featuring videos and practical\nexercises \nPrerequisites: \n• API Safety or POST Safety Certification (Status = Acquired)\n• GVR Dispensing Systems – Canada or GVR Dispensing Systems – US\n• Insite360 Encore Remote Management
URL:https://jfpetrogroup.com/course/flexpay-6-orlando-2/
LOCATION:Orlando\, FL\, 3806 Caboose Place\, Sanford\, FL\, 32771\, United States
CATEGORIES:FlexPay 6
ATTACH;FMTTYPE=image/jpeg:https://jfpetrogroup.com/wp-content/uploads/2021/07/JF-Way-Header-01-scaled.jpg
ORGANIZER;CN="David Blades":MAILTO:david.blades@jfpetrogroup.com
END:VEVENT
BEGIN:VEVENT
DTSTART;TZID=America/Chicago:20260226T080000
DTEND;TZID=America/Chicago:20260226T180000
DTSTAMP:20260425T130220
CREATED:20260128T153744Z
LAST-MODIFIED:20260128T153744Z
UID:17903-1772092800-1772128800@jfpetrogroup.com
SUMMARY:FlexPay 6 - Orlando
DESCRIPTION:1 – Day Class \nThis course trains technicians to install\,\nprogram\, and troubleshoot the FlexPay™ 6 for Gilbarco Veeder-Root™\nEncore® dispensers and Passport® POS systems. Participants\nwill learn communication configuration\, installation\nprocedures\, start-up and programming\, and troubleshooting\nthrough interactive modules featuring videos and practical\nexercises \nPrerequisites: \n• API Safety or POST Safety Certification (Status = Acquired)\n• GVR Dispensing Systems – Canada or GVR Dispensing Systems – US\n• Insite360 Encore Remote Management
URL:https://jfpetrogroup.com/course/flexpay-6-orlando-3/
LOCATION:Orlando\, FL\, 3806 Caboose Place\, Sanford\, FL\, 32771\, United States
CATEGORIES:FlexPay 6
ORGANIZER;CN="David Blades":MAILTO:david.blades@jfpetrogroup.com
END:VEVENT
END:VCALENDAR