BEGIN:VCALENDAR
VERSION:2.0
PRODID:-//JF Petroleum Group - ECPv6.15.20//NONSGML v1.0//EN
CALSCALE:GREGORIAN
METHOD:PUBLISH
X-ORIGINAL-URL:https://jfpetrogroup.com
X-WR-CALDESC:Events for JF Petroleum Group
REFRESH-INTERVAL;VALUE=DURATION:PT1H
X-Robots-Tag:noindex
X-PUBLISHED-TTL:PT1H
BEGIN:VTIMEZONE
TZID:America/Chicago
BEGIN:DAYLIGHT
TZOFFSETFROM:-0600
TZOFFSETTO:-0500
TZNAME:CDT
DTSTART:20240310T080000
END:DAYLIGHT
BEGIN:STANDARD
TZOFFSETFROM:-0500
TZOFFSETTO:-0600
TZNAME:CST
DTSTART:20241103T070000
END:STANDARD
BEGIN:DAYLIGHT
TZOFFSETFROM:-0600
TZOFFSETTO:-0500
TZNAME:CDT
DTSTART:20250309T080000
END:DAYLIGHT
BEGIN:STANDARD
TZOFFSETFROM:-0500
TZOFFSETTO:-0600
TZNAME:CST
DTSTART:20251102T070000
END:STANDARD
BEGIN:DAYLIGHT
TZOFFSETFROM:-0600
TZOFFSETTO:-0500
TZNAME:CDT
DTSTART:20260308T080000
END:DAYLIGHT
BEGIN:STANDARD
TZOFFSETFROM:-0500
TZOFFSETTO:-0600
TZNAME:CST
DTSTART:20261101T070000
END:STANDARD
END:VTIMEZONE
BEGIN:VEVENT
DTSTART;TZID=America/Chicago:20251202T080000
DTEND;TZID=America/Chicago:20251202T170000
DTSTAMP:20260421T051907
CREATED:20251120T152425Z
LAST-MODIFIED:20251120T161200Z
UID:16575-1764662400-1764694800@jfpetrogroup.com
SUMMARY:Smith Driving Course - Charlotte JFPG Internal ONLY
DESCRIPTION:Smith Driving will go over the five keys as well as hands-on driving
URL:https://jfpetrogroup.com/course/smith-driving-course-charlotte-jfpg-internal-only/
LOCATION:Charlotte\, NC\, 6701 Northpark Blvd Suite B Charlotte\, NC 28216\, Charlotte\, NC\, 28216\, United States
CATEGORIES:Smith Driving
ATTACH;FMTTYPE=image/jpeg:https://jfpetrogroup.com/wp-content/uploads/2021/07/JF-Way-Header-01-scaled.jpg
ORGANIZER;CN="Julio Delgado":MAILTO:julio.delgado@jfpetrogroup.com
END:VEVENT
BEGIN:VEVENT
DTSTART;TZID=America/Chicago:20251203T080000
DTEND;TZID=America/Chicago:20251203T170000
DTSTAMP:20260421T051907
CREATED:20251120T161403Z
LAST-MODIFIED:20251120T161403Z
UID:16588-1764748800-1764781200@jfpetrogroup.com
SUMMARY:Smith Driving Course - Charlotte JFPG Internal ONLY
DESCRIPTION:Smith Driving will go over the five keys as well as hands-on driving
URL:https://jfpetrogroup.com/course/smith-driving-course-orlando-jfpg-internal-only-2/
LOCATION:Charlotte\, NC\, 6701 Northpark Blvd Suite B Charlotte\, NC 28216\, Charlotte\, NC\, 28216\, United States
CATEGORIES:Smith Driving
ATTACH;FMTTYPE=image/jpeg:https://jfpetrogroup.com/wp-content/uploads/2021/07/JF-Way-Header-01-scaled.jpg
END:VEVENT
BEGIN:VEVENT
DTSTART;TZID=America/Chicago:20251204T080000
DTEND;TZID=America/Chicago:20251204T170000
DTSTAMP:20260421T051907
CREATED:20251120T161458Z
LAST-MODIFIED:20251120T161458Z
UID:16578-1764835200-1764867600@jfpetrogroup.com
SUMMARY:Smith Driving Course - Columbia JFPG Internal ONLY
DESCRIPTION:Smith Driving will go over the five keys as well as hands-on driving
URL:https://jfpetrogroup.com/course/smith-driving-course-columbia-jfpg-internal-only/
LOCATION:Columbia\, SC
CATEGORIES:Smith Driving
ATTACH;FMTTYPE=image/jpeg:https://jfpetrogroup.com/wp-content/uploads/2021/07/JF-Way-Header-01-scaled.jpg
END:VEVENT
BEGIN:VEVENT
DTSTART;TZID=America/Chicago:20251205T080000
DTEND;TZID=America/Chicago:20251205T170000
DTSTAMP:20260421T051907
CREATED:20251120T161610Z
LAST-MODIFIED:20251120T161610Z
UID:16590-1764921600-1764954000@jfpetrogroup.com
SUMMARY:Smith Driving Course - Columbia JFPG Internal ONLY
DESCRIPTION:Smith Driving will go over the five keys as well as hands-on driving
URL:https://jfpetrogroup.com/course/smith-driving-course-orlando-jfpg-internal-only/
LOCATION:Columbia\, SC
CATEGORIES:Smith Driving
ATTACH;FMTTYPE=image/jpeg:https://jfpetrogroup.com/wp-content/uploads/2021/07/JF-Way-Header-01-scaled.jpg
END:VEVENT
BEGIN:VEVENT
DTSTART;TZID=America/Chicago:20251208T080000
DTEND;TZID=America/Chicago:20251208T170000
DTSTAMP:20260421T051907
CREATED:20251120T193041Z
LAST-MODIFIED:20251120T193041Z
UID:16620-1765180800-1765213200@jfpetrogroup.com
SUMMARY:Smith Driving Course - Atlanta JFPG Internal ONLY
DESCRIPTION:Smith Driving will go over the five keys as well as hands-on driving
URL:https://jfpetrogroup.com/course/smith-driving-course-orlando-jfpg-internal-only-5/
LOCATION:Atlanta\, GA\, 4070 Buford Highway Suite 7\, Duluth\, GA\, 30096\, United States
CATEGORIES:Smith Driving
ATTACH;FMTTYPE=image/jpeg:https://jfpetrogroup.com/wp-content/uploads/2021/07/JF-Way-Header-01-scaled.jpg
ORGANIZER;CN="Julio Delgado":MAILTO:julio.delgado@jfpetrogroup.com
END:VEVENT
BEGIN:VEVENT
DTSTART;TZID=America/Chicago:20251209T080000
DTEND;TZID=America/Chicago:20251209T170000
DTSTAMP:20260421T051907
CREATED:20251120T193135Z
LAST-MODIFIED:20251120T193135Z
UID:16622-1765267200-1765299600@jfpetrogroup.com
SUMMARY:Smith Driving Course - Atlanta JFPG Internal ONLY
DESCRIPTION:Smith Driving will go over the five keys as well as hands-on driving
URL:https://jfpetrogroup.com/course/smith-driving-course-orlando-jfpg-internal-only-4/
LOCATION:Atlanta\, GA\, 4070 Buford Highway Suite 7\, Duluth\, GA\, 30096\, United States
CATEGORIES:Smith Driving
ATTACH;FMTTYPE=image/jpeg:https://jfpetrogroup.com/wp-content/uploads/2021/07/JF-Way-Header-01-scaled.jpg
ORGANIZER;CN="Julio Delgado":MAILTO:julio.delgado@jfpetrogroup.com
END:VEVENT
BEGIN:VEVENT
DTSTART;TZID=America/Chicago:20251209T080000
DTEND;TZID=America/Chicago:20251209T170000
DTSTAMP:20260421T051907
CREATED:20251121T144514Z
LAST-MODIFIED:20251121T144514Z
UID:16643-1765267200-1765299600@jfpetrogroup.com
SUMMARY:Smith Driving Course - San Antonio JFPG Internal ONLY
DESCRIPTION:Smith Driving will go over the five keys as well as hands-on driving
URL:https://jfpetrogroup.com/course/smith-driving-course-orlando-jfpg-internal-only-4-2/
LOCATION:San Antonio\, TX\, 14833 Bulverde Road\, San Antonio\, TX\, 78247\, United States
CATEGORIES:Smith Driving
ATTACH;FMTTYPE=image/jpeg:https://jfpetrogroup.com/wp-content/uploads/2021/07/JF-Way-Header-01-scaled.jpg
END:VEVENT
BEGIN:VEVENT
DTSTART;TZID=America/Chicago:20251209T080000
DTEND;TZID=America/Chicago:20251209T170000
DTSTAMP:20260421T051907
CREATED:20251124T142234Z
LAST-MODIFIED:20251124T142234Z
UID:16679-1765267200-1765299600@jfpetrogroup.com
SUMMARY:Smith Driving Course - Abilene JFPG Internal ONLY
DESCRIPTION:Smith Driving will go over the five keys as well as hands-on driving
URL:https://jfpetrogroup.com/course/smith-driving-course-abilene-jfpg-internal-only-2/
LOCATION:Abilene\, 1632-B Vision Drive Abilene\, TX 79602\, Abilene\, TX\, United States
CATEGORIES:Smith Driving
ATTACH;FMTTYPE=image/jpeg:https://jfpetrogroup.com/wp-content/uploads/2021/07/JF-Way-Header-01-scaled.jpg
END:VEVENT
BEGIN:VEVENT
DTSTART;TZID=America/Chicago:20251210T080000
DTEND;TZID=America/Chicago:20251210T170000
DTSTAMP:20260421T051907
CREATED:20251121T144543Z
LAST-MODIFIED:20251121T144543Z
UID:16645-1765353600-1765386000@jfpetrogroup.com
SUMMARY:Smith Driving Course - San Antonio JFPG Internal ONLY
DESCRIPTION:Smith Driving will go over the five keys as well as hands-on driving
URL:https://jfpetrogroup.com/course/smith-driving-course-san-antonio-jfpg-internal-only/
LOCATION:San Antonio\, TX\, 14833 Bulverde Road\, San Antonio\, TX\, 78247\, United States
CATEGORIES:Smith Driving
ATTACH;FMTTYPE=image/jpeg:https://jfpetrogroup.com/wp-content/uploads/2021/07/JF-Way-Header-01-scaled.jpg
END:VEVENT
BEGIN:VEVENT
DTSTART;TZID=America/Chicago:20251210T080000
DTEND;TZID=America/Chicago:20251210T170000
DTSTAMP:20260421T051907
CREATED:20251124T142216Z
LAST-MODIFIED:20251124T142216Z
UID:16684-1765353600-1765386000@jfpetrogroup.com
SUMMARY:Smith Driving Course - Abilene JFPG Internal ONLY
DESCRIPTION:Smith Driving will go over the five keys as well as hands-on driving
URL:https://jfpetrogroup.com/course/smith-driving-course-abilene-jfpg-internal-only/
LOCATION:Abilene\, 1632-B Vision Drive Abilene\, TX 79602\, Abilene\, TX\, United States
CATEGORIES:Smith Driving
ATTACH;FMTTYPE=image/jpeg:https://jfpetrogroup.com/wp-content/uploads/2021/07/JF-Way-Header-01-scaled.jpg
END:VEVENT
BEGIN:VEVENT
DTSTART;TZID=America/Chicago:20251212T080000
DTEND;TZID=America/Chicago:20251212T170000
DTSTAMP:20260421T051907
CREATED:20251120T161701Z
LAST-MODIFIED:20251120T161701Z
UID:16580-1765526400-1765558800@jfpetrogroup.com
SUMMARY:Smith Driving Course - Miami JFPG Internal ONLY
DESCRIPTION:Smith Driving will go over the five keys as well as hands-on driving
URL:https://jfpetrogroup.com/course/smith-driving-course-miami-jfpg-internal-only/
LOCATION:Miami\, 8013 NW 66th Street Miami\, FL 33166\, Miami\, FL\, 33166\, United States
CATEGORIES:Smith Driving
ATTACH;FMTTYPE=image/jpeg:https://jfpetrogroup.com/wp-content/uploads/2021/07/JF-Way-Header-01-scaled.jpg
END:VEVENT
BEGIN:VEVENT
DTSTART;TZID=America/Chicago:20251216T080000
DTEND;TZID=America/Chicago:20251216T170000
DTSTAMP:20260421T051907
CREATED:20251120T161808Z
LAST-MODIFIED:20251120T161808Z
UID:16585-1765872000-1765904400@jfpetrogroup.com
SUMMARY:Smith Driving Course - Orlando JFPG Internal ONLY
DESCRIPTION:Smith Driving will go over the five keys as well as hands-on driving
URL:https://jfpetrogroup.com/course/smith-driving-course-orlando-jfpg-internal-only-3/
LOCATION:Orlando\, FL\, 3806 Caboose Place\, Sanford\, FL\, 32771\, United States
CATEGORIES:Smith Driving
ATTACH;FMTTYPE=image/jpeg:https://jfpetrogroup.com/wp-content/uploads/2021/07/JF-Way-Header-01-scaled.jpg
ORGANIZER;CN="Julio Delgado":MAILTO:julio.delgado@jfpetrogroup.com
END:VEVENT
END:VCALENDAR