BEGIN:VCALENDAR
VERSION:2.0
PRODID:-//JF Petroleum Group - ECPv6.15.20//NONSGML v1.0//EN
CALSCALE:GREGORIAN
METHOD:PUBLISH
X-WR-CALNAME:JF Petroleum Group
X-ORIGINAL-URL:https://jfpetrogroup.com
X-WR-CALDESC:Events for JF Petroleum Group
REFRESH-INTERVAL;VALUE=DURATION:PT1H
X-Robots-Tag:noindex
X-PUBLISHED-TTL:PT1H
BEGIN:VTIMEZONE
TZID:America/Chicago
BEGIN:DAYLIGHT
TZOFFSETFROM:-0600
TZOFFSETTO:-0500
TZNAME:CDT
DTSTART:20250309T080000
END:DAYLIGHT
BEGIN:STANDARD
TZOFFSETFROM:-0500
TZOFFSETTO:-0600
TZNAME:CST
DTSTART:20251102T070000
END:STANDARD
BEGIN:DAYLIGHT
TZOFFSETFROM:-0600
TZOFFSETTO:-0500
TZNAME:CDT
DTSTART:20260308T080000
END:DAYLIGHT
BEGIN:STANDARD
TZOFFSETFROM:-0500
TZOFFSETTO:-0600
TZNAME:CST
DTSTART:20261101T070000
END:STANDARD
BEGIN:DAYLIGHT
TZOFFSETFROM:-0600
TZOFFSETTO:-0500
TZNAME:CDT
DTSTART:20270314T080000
END:DAYLIGHT
BEGIN:STANDARD
TZOFFSETFROM:-0500
TZOFFSETTO:-0600
TZNAME:CST
DTSTART:20271107T070000
END:STANDARD
END:VTIMEZONE
BEGIN:VEVENT
DTSTART;TZID=America/Chicago:20260421T080000
DTEND;TZID=America/Chicago:20260425T180000
DTSTAMP:20260419T091808
CREATED:20251120T202646Z
LAST-MODIFIED:20251212T130342Z
UID:16364-1776758400-1777140000@jfpetrogroup.com
SUMMARY:Veeder Root ATG Factory Certification - Raleigh
DESCRIPTION:Class Length \n4 Days – 8am – 6pm \nPre-Requisites: \n\nVeederTEC ATG Installer Class ID: 0000012987\n\n\nOnline Gilbarco API Certification Course Class ID: 00003196\n\nNote: The actual training material and course are offered by American Petroleum Industry. See Gilbarco Course Catalog CLICK HERE \nMaterial Required: \n\nLaptop with Windows 7 or higher (32 or 64 bit). Needs to have serial port or USB to serial port.\nSmall hand tools – pliers\, screwdrivers\, multimeter\, volt/ohm meter\, anti-static wrist strap (per person)\nLock-Out/Tag-Out Kit\nNote taking supplies (notebook\, pen\, pencils\, etc.)\n\nSkills Acquired: \n\nInstallation & Set-Up (probes\, sensors & transducers) for TLS 450+\, 450 and 350\nCSLD\nPLLD\nBIR\nAccuchart\nLaptop Communication\n\n  \nSkills Acquired: Installation & Set-Up (probes\, sensors & transducers)\, for TLS 450+\, 450 and 350\, CSLD\, PLLD\, BIR\, Accuchart\, Laptop Communication
URL:https://jfpetrogroup.com/course/veeder-root-atg-factory-certification-raleigh-19/
LOCATION:Raleigh\, NC\, 100 Perimeter Park Dr Ste H\, Morrisville\, NC\, 27560\, United States
CATEGORIES:Veeder Root
ATTACH;FMTTYPE=image/png:https://jfpetrogroup.com/wp-content/uploads/2021/09/veeder-root.png
ORGANIZER;CN="Charles Beaver":MAILTO:cbeaver@jfpetrogroup.com
END:VEVENT
BEGIN:VEVENT
DTSTART;TZID=America/Chicago:20260427T080000
DTEND;TZID=America/Chicago:20260430T180000
DTSTAMP:20260419T091808
CREATED:20251120T202448Z
LAST-MODIFIED:20251120T202448Z
UID:16356-1777276800-1777572000@jfpetrogroup.com
SUMMARY:Veeder Root ATG Factory Certification - Baton Rouge
DESCRIPTION:Class Length \n4 Days – 8am – 6pm \nPre-Requisites: \n\nVeederTEC ATG Installer Class ID: 0000012987\n\n\nOnline Gilbarco API Certification Course Class ID: 00003196\n\nNote: The actual training material and course are offered by American Petroleum Industry. See Gilbarco Course Catalog CLICK HERE \nMaterial Required: \n\nLaptop with Windows 7 or higher (32 or 64 bit). Needs to have serial port or USB to serial port.\nSmall hand tools – pliers\, screwdrivers\, multimeter\, volt/ohm meter\, anti-static wrist strap (per person)\nLock-Out/Tag-Out Kit\nNote taking supplies (notebook\, pen\, pencils\, etc.)\n\nSkills Acquired: \n\nInstallation & Set-Up (probes\, sensors & transducers) for TLS 450+\, 450 and 350\nCSLD\nPLLD\nBIR\nAccuchart\nLaptop Communication\n\n  \nSkills Acquired: Installation & Set-Up (probes\, sensors & transducers)\, for TLS 450+\, 450 and 350\, CSLD\, PLLD\, BIR\, Accuchart\, Laptop Communication
URL:https://jfpetrogroup.com/course/veeder-root-atg-factory-certification-baton-rouge-12/
LOCATION:Baton Rouge\, LA\, 2410 Vail Dr\, Denham Springs\, LA\, 70726\, United States
CATEGORIES:Veeder Root
ATTACH;FMTTYPE=image/png:https://jfpetrogroup.com/wp-content/uploads/2021/09/veeder-root.png
ORGANIZER;CN="Zach Cantrelle":MAILTO:zachary.cantrelle@jfpetrogroup.com
END:VEVENT
END:VCALENDAR